BEGIN:VCALENDAR
VERSION:2.0
PRODID:-//City of Valley View, Texas - ECPv6.2.8.2//NONSGML v1.0//EN
CALSCALE:GREGORIAN
METHOD:PUBLISH
X-WR-CALNAME:City of Valley View, Texas
X-ORIGINAL-URL:https://www.cityofvv.com
X-WR-CALDESC:Events for City of Valley View, Texas
REFRESH-INTERVAL;VALUE=DURATION:PT1H
X-Robots-Tag:noindex
X-PUBLISHED-TTL:PT1H
BEGIN:VTIMEZONE
TZID:America/Chicago
BEGIN:DAYLIGHT
TZOFFSETFROM:-0600
TZOFFSETTO:-0500
TZNAME:CDT
DTSTART:20210314T080000
END:DAYLIGHT
BEGIN:STANDARD
TZOFFSETFROM:-0500
TZOFFSETTO:-0600
TZNAME:CST
DTSTART:20211107T070000
END:STANDARD
END:VTIMEZONE
BEGIN:VEVENT
DTSTART;TZID=America/Chicago:20211009T170000
DTEND;TZID=America/Chicago:20211009T230000
DTSTAMP:20260422T213706
CREATED:20210721T191221Z
LAST-MODIFIED:20210721T195200Z
UID:1781-1633798800-1633820400@www.cityofvv.com
SUMMARY:Valley View Chamber of Commerce Wine Walk
DESCRIPTION:
URL:https://www.cityofvv.com/event/valley-view-chamber-of-commerce-wine-walk/
END:VEVENT
END:VCALENDAR