BEGIN:VCALENDAR
VERSION:2.0
PRODID:-//City of Valley View, Texas - ECPv6.2.8.2//NONSGML v1.0//EN
CALSCALE:GREGORIAN
METHOD:PUBLISH
X-WR-CALNAME:City of Valley View, Texas
X-ORIGINAL-URL:https://www.cityofvv.com
X-WR-CALDESC:Events for City of Valley View, Texas
REFRESH-INTERVAL;VALUE=DURATION:PT1H
X-Robots-Tag:noindex
X-PUBLISHED-TTL:PT1H
BEGIN:VTIMEZONE
TZID:America/Chicago
BEGIN:DAYLIGHT
TZOFFSETFROM:-0600
TZOFFSETTO:-0500
TZNAME:CDT
DTSTART:20210314T080000
END:DAYLIGHT
BEGIN:STANDARD
TZOFFSETFROM:-0500
TZOFFSETTO:-0600
TZNAME:CST
DTSTART:20211107T070000
END:STANDARD
END:VTIMEZONE
BEGIN:VEVENT
DTSTART;TZID=America/Chicago:20211103T173000
DTEND;TZID=America/Chicago:20211103T193000
DTSTAMP:20260422T203150
CREATED:20211028T161102Z
LAST-MODIFIED:20211028T161102Z
UID:2065-1635960600-1635967800@www.cityofvv.com
SUMMARY:Parks Commission Meeting
DESCRIPTION:11 03 21 signed agenda
URL:https://www.cityofvv.com/event/parks-commission-meeting-6/
END:VEVENT
END:VCALENDAR