BEGIN:VCALENDAR
VERSION:2.0
PRODID:-//City of Valley View, Texas - ECPv6.2.8.2//NONSGML v1.0//EN
CALSCALE:GREGORIAN
METHOD:PUBLISH
X-ORIGINAL-URL:https://www.cityofvv.com
X-WR-CALDESC:Events for City of Valley View, Texas
REFRESH-INTERVAL;VALUE=DURATION:PT1H
X-Robots-Tag:noindex
X-PUBLISHED-TTL:PT1H
BEGIN:VTIMEZONE
TZID:America/Chicago
BEGIN:DAYLIGHT
TZOFFSETFROM:-0600
TZOFFSETTO:-0500
TZNAME:CDT
DTSTART:20220313T080000
END:DAYLIGHT
BEGIN:STANDARD
TZOFFSETFROM:-0500
TZOFFSETTO:-0600
TZNAME:CST
DTSTART:20221106T070000
END:STANDARD
END:VTIMEZONE
BEGIN:VEVENT
DTSTART;TZID=America/Chicago:20220326T080000
DTEND;TZID=America/Chicago:20220326T200000
DTSTAMP:20260422T151940
CREATED:20211015T132931Z
LAST-MODIFIED:20220321T184705Z
UID:2039-1648281600-1648324800@www.cityofvv.com
SUMMARY:150th BIRTHDAY
DESCRIPTION:150TH BIRTHDAY \nhttps://www.cityofvv.com/wp-content/uploads/2022/03/Notice-of-Quorum-for-150th.pdf \nFor more information\, call 940-726-3740 or email clerk@cityofvv.com \n 
URL:https://www.cityofvv.com/event/150th-birthday/
END:VEVENT
END:VCALENDAR