BEGIN:VCALENDAR
VERSION:2.0
PRODID:-//City of Valley View, Texas - ECPv6.2.8.2//NONSGML v1.0//EN
CALSCALE:GREGORIAN
METHOD:PUBLISH
X-WR-CALNAME:City of Valley View, Texas
X-ORIGINAL-URL:https://www.cityofvv.com
X-WR-CALDESC:Events for City of Valley View, Texas
REFRESH-INTERVAL;VALUE=DURATION:PT1H
X-Robots-Tag:noindex
X-PUBLISHED-TTL:PT1H
BEGIN:VTIMEZONE
TZID:America/Chicago
BEGIN:DAYLIGHT
TZOFFSETFROM:-0600
TZOFFSETTO:-0500
TZNAME:CDT
DTSTART:20220313T080000
END:DAYLIGHT
BEGIN:STANDARD
TZOFFSETFROM:-0500
TZOFFSETTO:-0600
TZNAME:CST
DTSTART:20221106T070000
END:STANDARD
END:VTIMEZONE
BEGIN:VEVENT
DTSTART;TZID=America/Chicago:20220625T100000
DTEND;TZID=America/Chicago:20220625T170000
DTSTAMP:20260422T112109
CREATED:20220610T160845Z
LAST-MODIFIED:20220610T160845Z
UID:2512-1656151200-1656176400@www.cityofvv.com
SUMMARY:Chamber of Commerce - Summer Picnic
DESCRIPTION:https://www.facebook.com/events/323041493297925
URL:https://www.cityofvv.com/event/chamber-of-commerce-summer-picnic/
END:VEVENT
END:VCALENDAR