BEGIN:VCALENDAR
VERSION:2.0
PRODID:-//City of Valley View, Texas - ECPv6.2.8.2//NONSGML v1.0//EN
CALSCALE:GREGORIAN
METHOD:PUBLISH
X-WR-CALNAME:City of Valley View, Texas
X-ORIGINAL-URL:https://www.cityofvv.com
X-WR-CALDESC:Events for City of Valley View, Texas
REFRESH-INTERVAL;VALUE=DURATION:PT1H
X-Robots-Tag:noindex
X-PUBLISHED-TTL:PT1H
BEGIN:VTIMEZONE
TZID:America/Chicago
BEGIN:DAYLIGHT
TZOFFSETFROM:-0600
TZOFFSETTO:-0500
TZNAME:CDT
DTSTART:20220313T080000
END:DAYLIGHT
BEGIN:STANDARD
TZOFFSETFROM:-0500
TZOFFSETTO:-0600
TZNAME:CST
DTSTART:20221106T070000
END:STANDARD
END:VTIMEZONE
BEGIN:VEVENT
DTSTART;TZID=America/Chicago:20221005T180000
DTEND;TZID=America/Chicago:20221005T190000
DTSTAMP:20260422T050108
CREATED:20221003T200146Z
LAST-MODIFIED:20221003T200232Z
UID:2737-1664992800-1664996400@www.cityofvv.com
SUMMARY:Parks Commission Meeting
DESCRIPTION:Agenda
URL:https://www.cityofvv.com/event/parks-commission-meetin/
LOCATION:City Hall\, 101 S. Frontage Road\, VALLEY VIEW\, TX\, 76272\, United States
END:VEVENT
END:VCALENDAR