BEGIN:VCALENDAR
VERSION:2.0
PRODID:-//City of Valley View, Texas - ECPv6.2.8.2//NONSGML v1.0//EN
CALSCALE:GREGORIAN
METHOD:PUBLISH
X-WR-CALNAME:City of Valley View, Texas
X-ORIGINAL-URL:https://www.cityofvv.com
X-WR-CALDESC:Events for City of Valley View, Texas
REFRESH-INTERVAL;VALUE=DURATION:PT1H
X-Robots-Tag:noindex
X-PUBLISHED-TTL:PT1H
BEGIN:VTIMEZONE
TZID:America/Chicago
BEGIN:DAYLIGHT
TZOFFSETFROM:-0600
TZOFFSETTO:-0500
TZNAME:CDT
DTSTART:20230312T080000
END:DAYLIGHT
BEGIN:STANDARD
TZOFFSETFROM:-0500
TZOFFSETTO:-0600
TZNAME:CST
DTSTART:20231105T070000
END:STANDARD
END:VTIMEZONE
BEGIN:VEVENT
DTSTART;TZID=America/Chicago:20230509T173000
DTEND;TZID=America/Chicago:20230509T193000
DTSTAMP:20260419T203932
CREATED:20230501T212606Z
LAST-MODIFIED:20230501T224942Z
UID:3141-1683653400-1683660600@www.cityofvv.com
SUMMARY:Farmer's Market
DESCRIPTION:
URL:https://www.cityofvv.com/event/farmers-market-2/
LOCATION:Downtown Square
END:VEVENT
END:VCALENDAR