BEGIN:VCALENDAR
VERSION:2.0
PRODID:-//City of Valley View, Texas - ECPv6.2.8.2//NONSGML v1.0//EN
CALSCALE:GREGORIAN
METHOD:PUBLISH
X-ORIGINAL-URL:https://www.cityofvv.com
X-WR-CALDESC:Events for City of Valley View, Texas
REFRESH-INTERVAL;VALUE=DURATION:PT1H
X-Robots-Tag:noindex
X-PUBLISHED-TTL:PT1H
BEGIN:VTIMEZONE
TZID:America/Chicago
BEGIN:DAYLIGHT
TZOFFSETFROM:-0600
TZOFFSETTO:-0500
TZNAME:CDT
DTSTART:20230312T080000
END:DAYLIGHT
BEGIN:STANDARD
TZOFFSETFROM:-0500
TZOFFSETTO:-0600
TZNAME:CST
DTSTART:20231105T070000
END:STANDARD
BEGIN:DAYLIGHT
TZOFFSETFROM:-0600
TZOFFSETTO:-0500
TZNAME:CDT
DTSTART:20240310T080000
END:DAYLIGHT
BEGIN:STANDARD
TZOFFSETFROM:-0500
TZOFFSETTO:-0600
TZNAME:CST
DTSTART:20241103T070000
END:STANDARD
BEGIN:DAYLIGHT
TZOFFSETFROM:-0600
TZOFFSETTO:-0500
TZNAME:CDT
DTSTART:20250309T080000
END:DAYLIGHT
BEGIN:STANDARD
TZOFFSETFROM:-0500
TZOFFSETTO:-0600
TZNAME:CST
DTSTART:20251102T070000
END:STANDARD
END:VTIMEZONE
BEGIN:VEVENT
DTSTART;TZID=America/Chicago:20230906T180000
DTEND;TZID=America/Chicago:20230906T200000
DTSTAMP:20260420T012736
CREATED:20230815T154050Z
LAST-MODIFIED:20230815T154050Z
UID:3305-1694023200-1694030400@www.cityofvv.com
SUMMARY:Notice of Public Hearing
DESCRIPTION:Notice for Public Hearing for Zoning Ordinance Amendment (002)
URL:https://www.cityofvv.com/event/notice-of-public-hearing/
LOCATION:City Hall\, 101 S. Frontage Road\, VALLEY VIEW\, TX\, 76272\, United States
END:VEVENT
BEGIN:VEVENT
DTSTART;TZID=America/Chicago:20230906T180000
DTEND;TZID=America/Chicago:20230906T200000
DTSTAMP:20260420T012736
CREATED:20230825T161457Z
LAST-MODIFIED:20230825T161457Z
UID:3321-1694023200-1694030400@www.cityofvv.com
SUMMARY:Notice of Public Hearing 09 06 23
DESCRIPTION:Budget Public hearing notice 2023.08.25
URL:https://www.cityofvv.com/event/notice-of-public-hearing-09-06-23/
LOCATION:City Hall\, 101 S. Frontage Road\, VALLEY VIEW\, TX\, 76272\, United States
END:VEVENT
BEGIN:VEVENT
DTSTART;TZID=America/Chicago:20230914T180000
DTEND;TZID=America/Chicago:20230914T220000
DTSTAMP:20260420T012736
CREATED:20230911T221819Z
LAST-MODIFIED:20230911T221819Z
UID:3343-1694714400-1694728800@www.cityofvv.com
SUMMARY:09 14 23 Board of Alderman Meeting
DESCRIPTION:09 14 23 Signed Regular Agenda
URL:https://www.cityofvv.com/event/09-14-23-board-of-alderman-meeting/
LOCATION:City Hall\, 101 S. Frontage Road\, VALLEY VIEW\, TX\, 76272\, United States
END:VEVENT
BEGIN:VEVENT
DTSTART;TZID=America/Chicago:20250329T140000
DTEND;TZID=America/Chicago:20250329T190000
DTSTAMP:20260420T012736
CREATED:20250220T181257Z
LAST-MODIFIED:20250220T181349Z
UID:4225-1743256800-1743274800@www.cityofvv.com
SUMMARY:View Fest 2025
DESCRIPTION:153rd birthday Vendor Application 2025
URL:https://www.cityofvv.com/event/view-fest-2025/
LOCATION:Downtown Square
END:VEVENT
END:VCALENDAR