BEGIN:VCALENDAR
VERSION:2.0
PRODID:-//City of Valley View, Texas - ECPv6.2.8.2//NONSGML v1.0//EN
CALSCALE:GREGORIAN
METHOD:PUBLISH
X-ORIGINAL-URL:https://www.cityofvv.com
X-WR-CALDESC:Events for City of Valley View, Texas
REFRESH-INTERVAL;VALUE=DURATION:PT1H
X-Robots-Tag:noindex
X-PUBLISHED-TTL:PT1H
BEGIN:VTIMEZONE
TZID:America/Chicago
BEGIN:DAYLIGHT
TZOFFSETFROM:-0600
TZOFFSETTO:-0500
TZNAME:CDT
DTSTART:20210314T080000
END:DAYLIGHT
BEGIN:STANDARD
TZOFFSETFROM:-0500
TZOFFSETTO:-0600
TZNAME:CST
DTSTART:20211107T070000
END:STANDARD
END:VTIMEZONE
BEGIN:VEVENT
DTSTART;TZID=America/Chicago:20210407T170000
DTEND;TZID=America/Chicago:20210407T180000
DTSTAMP:20260423T001105
CREATED:20210331T221633Z
LAST-MODIFIED:20210331T221633Z
UID:1289-1617814800-1617818400@www.cityofvv.com
SUMMARY:Board of Aldermen Workshop
DESCRIPTION:https://www.cityofvv.com/wp-content/uploads/2021/03/April-7-2021-Workshop-Agenda-signed.pdf
URL:https://www.cityofvv.com/event/board-of-aldermen-workshop/
LOCATION:City Hall\, 101 S. Frontage Road\, VALLEY VIEW\, TX\, 76272\, United States
END:VEVENT
BEGIN:VEVENT
DTSTART;TZID=America/Chicago:20210408T180000
DTEND;TZID=America/Chicago:20210408T180000
DTSTAMP:20260423T001105
CREATED:20210405T145601Z
LAST-MODIFIED:20210405T145601Z
UID:1316-1617904800-1617904800@www.cityofvv.com
SUMMARY:Regular Meeting of the Board of Aldermen
DESCRIPTION:https://www.cityofvv.com/wp-content/uploads/2021/04/April-8-2021-Regular-Agenda.pdf
URL:https://www.cityofvv.com/event/regular-meeting-of-the-board-of-aldermen-5/
LOCATION:City Hall\, 101 S. Frontage Road\, VALLEY VIEW\, TX\, 76272\, United States
END:VEVENT
BEGIN:VEVENT
DTSTART;TZID=America/Chicago:20210417T100000
DTEND;TZID=America/Chicago:20210417T120000
DTSTAMP:20260423T001105
CREATED:20210412T172723Z
LAST-MODIFIED:20210412T172723Z
UID:1346-1618653600-1618660800@www.cityofvv.com
SUMMARY:Spring 2021 Great American Cleanup
DESCRIPTION:
URL:https://www.cityofvv.com/event/spring-2021-great-american-cleanup/
END:VEVENT
BEGIN:VEVENT
DTSTART;TZID=America/Chicago:20210428T170000
DTEND;TZID=America/Chicago:20210428T183000
DTSTAMP:20260423T001105
CREATED:20210421T185041Z
LAST-MODIFIED:20210421T185259Z
UID:1400-1619629200-1619634600@www.cityofvv.com
SUMMARY:Parks Commission Meeting
DESCRIPTION:Agenda
URL:https://www.cityofvv.com/event/parks-commission-meeting-3/
LOCATION:City Hall\, 101 S. Frontage Road\, VALLEY VIEW\, TX\, 76272\, United States
END:VEVENT
BEGIN:VEVENT
DTSTART;TZID=America/Chicago:20210429T170000
DTEND;TZID=America/Chicago:20210429T180000
DTSTAMP:20260423T001105
CREATED:20210421T201316Z
LAST-MODIFIED:20210426T192545Z
UID:1409-1619715600-1619719200@www.cityofvv.com
SUMMARY:Workshop for Board of Aldermen
DESCRIPTION:APRIL 29 21 WORKSHOP SIGNED AGENDA
URL:https://www.cityofvv.com/event/workshop-for-board-of-aldermen/
LOCATION:City Hall\, 101 S. Frontage Road\, VALLEY VIEW\, TX\, 76272\, United States
END:VEVENT
BEGIN:VEVENT
DTSTART;TZID=America/Chicago:20210429T180000
DTEND;TZID=America/Chicago:20210429T210000
DTSTAMP:20260423T001105
CREATED:20210421T200928Z
LAST-MODIFIED:20210426T191618Z
UID:1407-1619719200-1619730000@www.cityofvv.com
SUMMARY:Special Meeting of Board of Aldermen
DESCRIPTION:April 29 2021 SpecialAgenda
URL:https://www.cityofvv.com/event/special-meeting-of-board-of-aldermen/
LOCATION:City Hall\, 101 S. Frontage Road\, VALLEY VIEW\, TX\, 76272\, United States
END:VEVENT
END:VCALENDAR