BEGIN:VCALENDAR
VERSION:2.0
PRODID:-//City of Valley View, Texas - ECPv6.2.8.2//NONSGML v1.0//EN
CALSCALE:GREGORIAN
METHOD:PUBLISH
X-WR-CALNAME:City of Valley View, Texas
X-ORIGINAL-URL:https://www.cityofvv.com
X-WR-CALDESC:Events for City of Valley View, Texas
REFRESH-INTERVAL;VALUE=DURATION:PT1H
X-Robots-Tag:noindex
X-PUBLISHED-TTL:PT1H
BEGIN:VTIMEZONE
TZID:America/Chicago
BEGIN:DAYLIGHT
TZOFFSETFROM:-0600
TZOFFSETTO:-0500
TZNAME:CDT
DTSTART:20220313T080000
END:DAYLIGHT
BEGIN:STANDARD
TZOFFSETFROM:-0500
TZOFFSETTO:-0600
TZNAME:CST
DTSTART:20221106T070000
END:STANDARD
END:VTIMEZONE
BEGIN:VEVENT
DTSTART;TZID=America/Chicago:20220307T170000
DTEND;TZID=America/Chicago:20220307T183000
DTSTAMP:20260422T140558
CREATED:20220225T162754Z
LAST-MODIFIED:20220303T174023Z
UID:2271-1646672400-1646677800@www.cityofvv.com
SUMMARY:Parks Commission Meeting
DESCRIPTION:https://www.cityofvv.com/wp-content/uploads/2022/03/03-07-22-Agenda-signed-cor.pdf
URL:https://www.cityofvv.com/event/parks-commission-meeting-8/
LOCATION:City Hall\, 101 S. Frontage Road\, VALLEY VIEW\, TX\, 76272\, United States
END:VEVENT
BEGIN:VEVENT
DTSTART;TZID=America/Chicago:20220310T170000
DTEND;TZID=America/Chicago:20220310T200000
DTSTAMP:20260422T140558
CREATED:20220202T211455Z
LAST-MODIFIED:20220307T164745Z
UID:2239-1646931600-1646942400@www.cityofvv.com
SUMMARY:Workshop and Regular Meeting of the Board of Aldermen
DESCRIPTION:signed Agenda 03 10 2022
URL:https://www.cityofvv.com/event/workshop-and-regular-meeting-of-the-board-of-aldermen-4/
LOCATION:City Hall\, 101 S. Frontage Road\, VALLEY VIEW\, TX\, 76272\, United States
END:VEVENT
BEGIN:VEVENT
DTSTART;TZID=America/Chicago:20220320T090000
DTEND;TZID=America/Chicago:20220320T200000
DTSTAMP:20260422T140558
CREATED:20220311T140437Z
LAST-MODIFIED:20220311T140437Z
UID:2297-1647766800-1647806400@www.cityofvv.com
SUMMARY:Culpepper & Merriweather Circus - Valley View Chamber of Commerce
DESCRIPTION:Visit https://www.valleyviewchamber.org/ for more information \n 
URL:https://www.cityofvv.com/event/culpepper-merriweather-circus-valley-view-chamber-of-commerce/
END:VEVENT
BEGIN:VEVENT
DTSTART;TZID=America/Chicago:20220326T080000
DTEND;TZID=America/Chicago:20220326T200000
DTSTAMP:20260422T140558
CREATED:20211015T132931Z
LAST-MODIFIED:20220321T184705Z
UID:2039-1648281600-1648324800@www.cityofvv.com
SUMMARY:150th BIRTHDAY
DESCRIPTION:150TH BIRTHDAY \nhttps://www.cityofvv.com/wp-content/uploads/2022/03/Notice-of-Quorum-for-150th.pdf \nFor more information\, call 940-726-3740 or email clerk@cityofvv.com \n 
URL:https://www.cityofvv.com/event/150th-birthday/
END:VEVENT
END:VCALENDAR