BEGIN:VCALENDAR
VERSION:2.0
PRODID:-//City of Valley View, Texas - ECPv6.2.8.2//NONSGML v1.0//EN
CALSCALE:GREGORIAN
METHOD:PUBLISH
X-ORIGINAL-URL:https://www.cityofvv.com
X-WR-CALDESC:Events for City of Valley View, Texas
REFRESH-INTERVAL;VALUE=DURATION:PT1H
X-Robots-Tag:noindex
X-PUBLISHED-TTL:PT1H
BEGIN:VTIMEZONE
TZID:America/Chicago
BEGIN:DAYLIGHT
TZOFFSETFROM:-0600
TZOFFSETTO:-0500
TZNAME:CDT
DTSTART:20220313T080000
END:DAYLIGHT
BEGIN:STANDARD
TZOFFSETFROM:-0500
TZOFFSETTO:-0600
TZNAME:CST
DTSTART:20221106T070000
END:STANDARD
END:VTIMEZONE
BEGIN:VEVENT
DTSTART;TZID=America/Chicago:20220511T173000
DTEND;TZID=America/Chicago:20220511T213000
DTSTAMP:20260422T112650
CREATED:20220506T132248Z
LAST-MODIFIED:20220506T132248Z
UID:2419-1652290200-1652304600@www.cityofvv.com
SUMMARY:Workshop and Special Meeting of the Board of Aldermen
DESCRIPTION:05.11.22 Special Meeting Agenda
URL:https://www.cityofvv.com/event/workshop-and-special-meeting-of-the-board-of-aldermen-5/
LOCATION:City Hall\, 101 S. Frontage Road\, VALLEY VIEW\, TX\, 76272\, United States
END:VEVENT
BEGIN:VEVENT
DTSTART;TZID=America/Chicago:20220514T090000
DTEND;TZID=America/Chicago:20220514T120000
DTSTAMP:20260422T112650
CREATED:20220329T212306Z
LAST-MODIFIED:20220329T212306Z
UID:2333-1652518800-1652529600@www.cityofvv.com
SUMMARY:Citywide Cleanup
DESCRIPTION:
URL:https://www.cityofvv.com/event/citywide-cleanup/
END:VEVENT
END:VCALENDAR