BEGIN:VCALENDAR
VERSION:2.0
PRODID:-//City of Valley View, Texas - ECPv6.2.8.2//NONSGML v1.0//EN
CALSCALE:GREGORIAN
METHOD:PUBLISH
X-ORIGINAL-URL:https://www.cityofvv.com
X-WR-CALDESC:Events for City of Valley View, Texas
REFRESH-INTERVAL;VALUE=DURATION:PT1H
X-Robots-Tag:noindex
X-PUBLISHED-TTL:PT1H
BEGIN:VTIMEZONE
TZID:America/Chicago
BEGIN:DAYLIGHT
TZOFFSETFROM:-0600
TZOFFSETTO:-0500
TZNAME:CDT
DTSTART:20220313T080000
END:DAYLIGHT
BEGIN:STANDARD
TZOFFSETFROM:-0500
TZOFFSETTO:-0600
TZNAME:CST
DTSTART:20221106T070000
END:STANDARD
END:VTIMEZONE
BEGIN:VEVENT
DTSTART;TZID=America/Chicago:20220901T180000
DTEND;TZID=America/Chicago:20220901T200000
DTSTAMP:20260422T051047
CREATED:20220829T215525Z
LAST-MODIFIED:20220829T215525Z
UID:2639-1662055200-1662062400@www.cityofvv.com
SUMMARY:Special Meeting of the Board of Aldermen
DESCRIPTION:Agenda
URL:https://www.cityofvv.com/event/special-meeting-of-the-board-of-aldermen-8/
LOCATION:City Hall\, 101 S. Frontage Road\, VALLEY VIEW\, TX\, 76272\, United States
END:VEVENT
BEGIN:VEVENT
DTSTART;TZID=America/Chicago:20220908T180000
DTEND;TZID=America/Chicago:20220908T200000
DTSTAMP:20260422T051047
CREATED:20220902T161745Z
LAST-MODIFIED:20220902T161745Z
UID:2669-1662660000-1662667200@www.cityofvv.com
SUMMARY:Regular Meeting of the Board of Aldermen
DESCRIPTION:Agenda
URL:https://www.cityofvv.com/event/regular-meeting-of-the-board-of-aldermen-8/
LOCATION:City Hall\, 101 S. Frontage Road\, VALLEY VIEW\, TX\, 76272\, United States
END:VEVENT
END:VCALENDAR